BEGIN:VCALENDAR
VERSION:2.0
PRODID:-//hacksw/handcal//NONSGML v1.0//EN
CALSCALE:GREGORIAN
BEGIN:VEVENT
DTEND:20240629T230000Z
UID:69e5e674d5312
DTSTAMP:20260420T094020Z
LOCATION:7460 Savognin 
DESCRIPTION:
URL;VALUE=URI:
SUMMARY:Swiss Irontrail 
DTSTART:20240628T230000Z
END:VEVENT
END:VCALENDAR
An internal server error occurred.