BEGIN:VCALENDAR
VERSION:2.0
PRODID:-//hacksw/handcal//NONSGML v1.0//EN
CALSCALE:GREGORIAN
BEGIN:VEVENT
DTEND:20230915T230000Z
UID:69e6c9edd589e
DTSTAMP:20260421T015053Z
LOCATION:6992 Hirschegg
DESCRIPTION:
URL;VALUE=URI:
SUMMARY:Transalpine Run
DTSTART:20230908T230000Z
END:VEVENT
END:VCALENDAR
An internal server error occurred.