BEGIN:VCALENDAR
VERSION:2.0
PRODID:-//hacksw/handcal//NONSGML v1.0//EN
CALSCALE:GREGORIAN
BEGIN:VEVENT
DTEND:20230401T230000Z
UID:69e4f27f85f15
DTSTAMP:20260419T161927Z
LOCATION:99830 Treffurt 
DESCRIPTION:
URL;VALUE=URI:
SUMMARY:Werratal Marathon 
DTSTART:20230401T230000Z
END:VEVENT
END:VCALENDAR
An internal server error occurred.