BEGIN:VCALENDAR
VERSION:2.0
PRODID:-//hacksw/handcal//NONSGML v1.0//EN
CALSCALE:GREGORIAN
BEGIN:VEVENT
DTEND:20230721T230000Z
UID:69eadff4bb6f1
DTSTAMP:20260424T041356Z
LOCATION:1020 Wien
DESCRIPTION:
URL;VALUE=URI:
SUMMARY:schauinsland Muddy Angel Run in Wien
DTSTART:20230721T230000Z
END:VEVENT
END:VCALENDAR
An internal server error occurred.