BEGIN:VCALENDAR
VERSION:2.0
PRODID:-//hacksw/handcal//NONSGML v1.0//EN
CALSCALE:GREGORIAN
BEGIN:VEVENT
DTEND:20230812T230000Z
UID:69eca3edc9aad
DTSTAMP:20260425T122221Z
LOCATION:8720 St. Margarethen bei Knittelfeld
DESCRIPTION:
URL;VALUE=URI:
SUMMARY:Steiraman- Styrian X-treme Triathlon
DTSTART:20230812T230000Z
END:VEVENT
END:VCALENDAR
An internal server error occurred.