BEGIN:VCALENDAR
VERSION:2.0
PRODID:-//hacksw/handcal//NONSGML v1.0//EN
CALSCALE:GREGORIAN
BEGIN:VEVENT
DTEND:20230411T230000Z
UID:69ed95e0d99b4
DTSTAMP:20260426T053440Z
LOCATION:1020 Wien
DESCRIPTION:
URL;VALUE=URI:
SUMMARY:Österreichischer Frauenlauf Wien  
DTSTART:20230411T230000Z
END:VEVENT
END:VCALENDAR
An internal server error occurred.