BEGIN:VCALENDAR
VERSION:2.0
PRODID:-//hacksw/handcal//NONSGML v1.0//EN
CALSCALE:GREGORIAN
BEGIN:VEVENT
DTEND:20231019T230000Z
UID:69e98c05b87fe
DTSTAMP:20260423T040333Z
LOCATION:5020 Salzburg
DESCRIPTION:
URL;VALUE=URI:
SUMMARY:Salzburg Trailrunning-Festival
DTSTART:20231019T230000Z
END:VEVENT
END:VCALENDAR
An internal server error occurred.