BEGIN:VCALENDAR
VERSION:2.0
PRODID:-//hacksw/handcal//NONSGML v1.0//EN
CALSCALE:GREGORIAN
BEGIN:VEVENT
DTEND:20231028T230000Z
UID:69ed12ad34b5f
DTSTAMP:20260425T201453Z
LOCATION:6006 Luzern
DESCRIPTION:
URL;VALUE=URI:
SUMMARY:SwissCityMarathon Lucerne  
DTSTART:20231028T230000Z
END:VEVENT
END:VCALENDAR
An internal server error occurred.