BEGIN:VCALENDAR
VERSION:2.0
PRODID:-//hacksw/handcal//NONSGML v1.0//EN
CALSCALE:GREGORIAN
BEGIN:VEVENT
DTEND:20230916T230000Z
UID:69e716a9217f3
DTSTAMP:20260421T071817Z
LOCATION:76135 Karlsruhe 
DESCRIPTION:
URL;VALUE=URI:
SUMMARY:Baden-Marathon 
DTSTART:20230916T230000Z
END:VEVENT
END:VCALENDAR
An internal server error occurred.