BEGIN:VCALENDAR
VERSION:2.0
PRODID:-//hacksw/handcal//NONSGML v1.0//EN
CALSCALE:GREGORIAN
BEGIN:VEVENT
DTEND:20230915T230000Z
UID:69e867e5ef179
DTSTAMP:20260422T071709Z
LOCATION:08309 Eibenstock 
DESCRIPTION:
URL;VALUE=URI:
SUMMARY:Drei-Talsperren-Marathon  
DTSTART:20230915T230000Z
END:VEVENT
END:VCALENDAR
An internal server error occurred.