BEGIN:VCALENDAR
VERSION:2.0
PRODID:-//hacksw/handcal//NONSGML v1.0//EN
CALSCALE:GREGORIAN
BEGIN:VEVENT
DTEND:20230630T230000Z
UID:69e63b4b7448c
DTSTAMP:20260420T154219Z
LOCATION:4784 Schardenberg
DESCRIPTION:
URL;VALUE=URI:
SUMMARY:Sauwald TRAIL   
DTSTART:20230630T230000Z
END:VEVENT
END:VCALENDAR
An internal server error occurred.