BEGIN:VCALENDAR
VERSION:2.0
PRODID:-//hacksw/handcal//NONSGML v1.0//EN
CALSCALE:GREGORIAN
BEGIN:VEVENT
DTEND:20230630T230000Z
UID:69e7701769f6f
DTSTAMP:20260421T133951Z
LOCATION:95632 Wunsiedel
DESCRIPTION:
URL;VALUE=URI:
SUMMARY:Fichtelgebirgsmarathon  
DTSTART:20230630T230000Z
END:VEVENT
END:VCALENDAR
An internal server error occurred.