BEGIN:VCALENDAR
VERSION:2.0
PRODID:-//hacksw/handcal//NONSGML v1.0//EN
CALSCALE:GREGORIAN
BEGIN:VEVENT
DTEND:20230630T230000Z
UID:69e6239fecffe
DTSTAMP:20260420T140119Z
LOCATION:7504 Pontresina
DESCRIPTION:
URL;VALUE=URI:
SUMMARY:Bernina Ultraks
DTSTART:20230630T230000Z
END:VEVENT
END:VCALENDAR
An internal server error occurred.