BEGIN:VCALENDAR
VERSION:2.0
PRODID:-//hacksw/handcal//NONSGML v1.0//EN
CALSCALE:GREGORIAN
BEGIN:VEVENT
DTEND:20230629T230000Z
UID:69e972a8aade8
DTSTAMP:20260423T021520Z
LOCATION:83242 Reit im Winkl 
DESCRIPTION:
URL;VALUE=URI:
SUMMARY: Mountainman Reit im Winkl 
DTSTART:20230629T230000Z
END:VEVENT
END:VCALENDAR
An internal server error occurred.