BEGIN:VCALENDAR
VERSION:2.0
PRODID:-//hacksw/handcal//NONSGML v1.0//EN
CALSCALE:GREGORIAN
BEGIN:VEVENT
DTEND:20230624T230000Z
UID:69e61a94b061f
DTSTAMP:20260420T132244Z
LOCATION:66679 Losheim am See
DESCRIPTION:
URL;VALUE=URI:
SUMMARY:Losheimer Trailfest 
DTSTART:20230624T230000Z
END:VEVENT
END:VCALENDAR
An internal server error occurred.