BEGIN:VCALENDAR
VERSION:2.0
PRODID:-//hacksw/handcal//NONSGML v1.0//EN
CALSCALE:GREGORIAN
BEGIN:VEVENT
DTEND:20230616T230000Z
UID:69ec1eb36d291
DTSTAMP:20260425T025355Z
LOCATION:6341 Ebbs
DESCRIPTION:
URL;VALUE=URI:
SUMMARY:Ebbser Koasamarsch  
DTSTART:20230616T230000Z
END:VEVENT
END:VCALENDAR
An internal server error occurred.