BEGIN:VCALENDAR
VERSION:2.0
PRODID:-//hacksw/handcal//NONSGML v1.0//EN
CALSCALE:GREGORIAN
BEGIN:VEVENT
DTEND:20230610T230000Z
UID:69e56972d6333
DTSTAMP:20260420T004658Z
LOCATION:02826 Görlitz
DESCRIPTION:
URL;VALUE=URI:
SUMMARY:Europa-Marathon Görlitz 
DTSTART:20230610T230000Z
END:VEVENT
END:VCALENDAR
An internal server error occurred.