BEGIN:VCALENDAR
VERSION:2.0
PRODID:-//hacksw/handcal//NONSGML v1.0//EN
CALSCALE:GREGORIAN
BEGIN:VEVENT
DTEND:20230603T230000Z
UID:69eb4559259f8
DTSTAMP:20260424T112633Z
LOCATION:08289 Schneeberg
DESCRIPTION:
URL;VALUE=URI:
SUMMARY:AOK PLUS Family-CrossDeLuxe Erzgebirge
DTSTART:20230603T230000Z
END:VEVENT
END:VCALENDAR
An internal server error occurred.