BEGIN:VCALENDAR
VERSION:2.0
PRODID:-//hacksw/handcal//NONSGML v1.0//EN
CALSCALE:GREGORIAN
BEGIN:VEVENT
DTEND:20230109T230000Z
UID:69e9728c09451
DTSTAMP:20260423T021452Z
LOCATION:38838 Huy-Burgen-Lauf
DESCRIPTION:
URL;VALUE=URI:
SUMMARY:Huy-Burgen-Lauf
DTSTART:20230109T230000Z
END:VEVENT
END:VCALENDAR
An internal server error occurred.