BEGIN:VCALENDAR
VERSION:2.0
PRODID:-//hacksw/handcal//NONSGML v1.0//EN
CALSCALE:GREGORIAN
BEGIN:VEVENT
DTEND:20230916T230000Z
UID:69e7701780555
DTSTAMP:20260421T133951Z
LOCATION:47800 Krefeld
DESCRIPTION:
URL;VALUE=URI:
SUMMARY:Seidenraupen Cross
DTSTART:20230916T230000Z
END:VEVENT
END:VCALENDAR
An internal server error occurred.