BEGIN:VCALENDAR
VERSION:2.0
PRODID:-//hacksw/handcal//NONSGML v1.0//EN
CALSCALE:GREGORIAN
BEGIN:VEVENT
DTEND:20231002T230000Z
UID:69e93d2ba67ac
DTSTAMP:20260422T222707Z
LOCATION:22309 Hamburg
DESCRIPTION:
URL;VALUE=URI:
SUMMARY:Köhlbrandbrückenlauf   
DTSTART:20231002T230000Z
END:VEVENT
END:VCALENDAR
An internal server error occurred.