BEGIN:VCALENDAR
VERSION:2.0
PRODID:-//hacksw/handcal//NONSGML v1.0//EN
CALSCALE:GREGORIAN
BEGIN:VEVENT
DTEND:20231006T230000Z
UID:69e7c7cd3bae2
DTSTAMP:20260421T195405Z
LOCATION:78199 Bräunlingen

DESCRIPTION:
URL;VALUE=URI:
SUMMARY:Int. Schwarzwald-Marathon    
DTSTART:20231006T230000Z
END:VEVENT
END:VCALENDAR
An internal server error occurred.