BEGIN:VCALENDAR
VERSION:2.0
PRODID:-//hacksw/handcal//NONSGML v1.0//EN
CALSCALE:GREGORIAN
BEGIN:VEVENT
DTEND:20231104T230000Z
UID:69eae007dc38d
DTSTAMP:20260424T041415Z
LOCATION:74182  Obersulm-Willsbach
DESCRIPTION:
URL;VALUE=URI:
SUMMARY:Obersulmer Volkslauf - Rund um den Breitenauer See 
DTSTART:20231104T230000Z
END:VEVENT
END:VCALENDAR
An internal server error occurred.