BEGIN:VCALENDAR
VERSION:2.0
PRODID:-//hacksw/handcal//NONSGML v1.0//EN
CALSCALE:GREGORIAN
BEGIN:VEVENT
DTEND:20231104T230000Z
UID:69e73f20737f0
DTSTAMP:20260421T101056Z
LOCATION:18057 Rostock
DESCRIPTION:
URL;VALUE=URI:
SUMMARY:Rostocker Herbstlauf 
DTSTART:20231104T230000Z
END:VEVENT
END:VCALENDAR
An internal server error occurred.