BEGIN:VCALENDAR
VERSION:2.0
PRODID:-//hacksw/handcal//NONSGML v1.0//EN
CALSCALE:GREGORIAN
BEGIN:VEVENT
DTEND:20230629T230000Z
UID:69ecf516a66e7
DTSTAMP:20260425T180838Z
LOCATION:1220 Wien Vienna International School
DESCRIPTION:
URL;VALUE=URI:
SUMMARY:VIS 2022-23 Competitive Sports Trips 01.07.22 bis 30.06.23
DTSTART:20230629T230000Z
END:VEVENT
END:VCALENDAR
An internal server error occurred.