BEGIN:VCALENDAR
VERSION:2.0
PRODID:-//hacksw/handcal//NONSGML v1.0//EN
CALSCALE:GREGORIAN
BEGIN:VEVENT
DTEND:20230622T230000Z
UID:69e615eb077e1
DTSTAMP:20260420T130251Z
LOCATION:92363 Breitenbrunn
DESCRIPTION:
URL;VALUE=URI:
SUMMARY:SachsenTrail 
DTSTART:20230622T230000Z
END:VEVENT
END:VCALENDAR
An internal server error occurred.