BEGIN:VCALENDAR
VERSION:2.0
PRODID:-//hacksw/handcal//NONSGML v1.0//EN
CALSCALE:GREGORIAN
BEGIN:VEVENT
DTEND:20231021T230000Z
UID:69e75d663df07
DTSTAMP:20260421T122006Z
LOCATION:01217 Dresden
DESCRIPTION:
URL;VALUE=URI:
SUMMARY:Dresden-Marathon 
DTSTART:20231021T230000Z
END:VEVENT
END:VCALENDAR
An internal server error occurred.