BEGIN:VCALENDAR
VERSION:2.0
PRODID:-//hacksw/handcal//NONSGML v1.0//EN
CALSCALE:GREGORIAN
BEGIN:VEVENT
DTEND:20230603T230000Z
UID:69ed16c1011ab
DTSTAMP:20260425T203217Z
LOCATION:26131 Oldenburg
DESCRIPTION:
URL;VALUE=URI:
SUMMARY:Everstener Brunnenlauf 
DTSTART:20230603T230000Z
END:VEVENT
END:VCALENDAR
An internal server error occurred.