BEGIN:VCALENDAR
VERSION:2.0
PRODID:-//hacksw/handcal//NONSGML v1.0//EN
CALSCALE:GREGORIAN
BEGIN:VEVENT
DTEND:20230603T230000Z
UID:69e70ec733e80
DTSTAMP:20260421T064439Z
LOCATION:26384 Wilhelmshaven
DESCRIPTION:
URL;VALUE=URI:
SUMMARY:Gorch-Fock-Lauf 
DTSTART:20230603T230000Z
END:VEVENT
END:VCALENDAR
An internal server error occurred.