BEGIN:VCALENDAR
VERSION:2.0
PRODID:-//hacksw/handcal//NONSGML v1.0//EN
CALSCALE:GREGORIAN
BEGIN:VEVENT
DTEND:20230811T230000Z
UID:69e8122896da9
DTSTAMP:20260422T011120Z
LOCATION:14167 Berlin
DESCRIPTION:
URL;VALUE=URI:
SUMMARY:100MeilenBerlin – Der Mauerweglauf 
DTSTART:20230811T230000Z
END:VEVENT
END:VCALENDAR
An internal server error occurred.