BEGIN:VCALENDAR
VERSION:2.0
PRODID:-//hacksw/handcal//NONSGML v1.0//EN
CALSCALE:GREGORIAN
BEGIN:VEVENT
DTEND:20230908T230000Z
UID:69e8b5416ab0b
DTSTAMP:20260422T124713Z
LOCATION:38644 Goslar-Hahnenklee
DESCRIPTION:
URL;VALUE=URI:
SUMMARY:10. Teiche Marathon Hahnenklee
DTSTART:20230908T230000Z
END:VEVENT
END:VCALENDAR
An internal server error occurred.