BEGIN:VCALENDAR
VERSION:2.0
PRODID:-//hacksw/handcal//NONSGML v1.0//EN
CALSCALE:GREGORIAN
BEGIN:VEVENT
DTEND:20231014T230000Z
UID:69e510522b2b0
DTSTAMP:20260419T182642Z
LOCATION:21635 Jork
DESCRIPTION:
URL;VALUE=URI:
SUMMARY:Altländer Butterkuchenlauf
DTSTART:20231014T230000Z
END:VEVENT
END:VCALENDAR
An internal server error occurred.