BEGIN:VCALENDAR
VERSION:2.0
PRODID:-//hacksw/handcal//NONSGML v1.0//EN
CALSCALE:GREGORIAN
BEGIN:VEVENT
DTEND:20230426T230000Z
UID:69e75d65eefc5
DTSTAMP:20260421T122005Z
LOCATION:9020 Klagenfurt
DESCRIPTION:
URL;VALUE=URI:
SUMMARY:Schleppe X-Trail Business Run
DTSTART:20230426T230000Z
END:VEVENT
END:VCALENDAR
An internal server error occurred.