BEGIN:VCALENDAR
VERSION:2.0
PRODID:-//hacksw/handcal//NONSGML v1.0//EN
CALSCALE:GREGORIAN
BEGIN:VEVENT
DTEND:20230428T230000Z
UID:69ed7fa040730
DTSTAMP:20260426T035944Z
LOCATION:3002 Purkersdorf
DESCRIPTION:
URL;VALUE=URI:
SUMMARY:Vertical Last One Standing 
DTSTART:20230428T230000Z
END:VEVENT
END:VCALENDAR
An internal server error occurred.