BEGIN:VCALENDAR
VERSION:2.0
PRODID:-//hacksw/handcal//NONSGML v1.0//EN
CALSCALE:GREGORIAN
BEGIN:VEVENT
DTEND:20230518T230000Z
UID:69eae5dd65c5c
DTSTAMP:20260424T043909Z
LOCATION:6441 Umhausen
DESCRIPTION:
URL;VALUE=URI:
SUMMARY:Stuiben Trailrun   
DTSTART:20230518T230000Z
END:VEVENT
END:VCALENDAR
An internal server error occurred.