BEGIN:VCALENDAR
VERSION:2.0
PRODID:-//hacksw/handcal//NONSGML v1.0//EN
CALSCALE:GREGORIAN
BEGIN:VEVENT
DTEND:20230520T230000Z
UID:69e9882cba981
DTSTAMP:20260423T034708Z
LOCATION:2003 Leitzersdorf
DESCRIPTION:
URL;VALUE=URI:
SUMMARY:Leitzersdorfer Waschberg-Crosslauf
DTSTART:20230520T230000Z
END:VEVENT
END:VCALENDAR
An internal server error occurred.