BEGIN:VCALENDAR
VERSION:2.0
PRODID:-//hacksw/handcal//NONSGML v1.0//EN
CALSCALE:GREGORIAN
BEGIN:VEVENT
DTEND:20230707T230000Z
UID:69e9885b38410
DTSTAMP:20260423T034755Z
LOCATION:8283 Bad Blumau
DESCRIPTION:
URL;VALUE=URI:
SUMMARY:24/12/6 - Stundenlauf Bad Blumau
DTSTART:20230707T230000Z
END:VEVENT
END:VCALENDAR
An internal server error occurred.