BEGIN:VCALENDAR
VERSION:2.0
PRODID:-//hacksw/handcal//NONSGML v1.0//EN
CALSCALE:GREGORIAN
BEGIN:VEVENT
DTEND:20231006T230000Z
UID:69e9568256c92
DTSTAMP:20260423T001514Z
LOCATION:7301 Deutschkreuz
DESCRIPTION:
URL;VALUE=URI:
SUMMARY:Blaufränkischland Marathon
DTSTART:20231006T230000Z
END:VEVENT
END:VCALENDAR
An internal server error occurred.