BEGIN:VCALENDAR
VERSION:2.0
PRODID:-//hacksw/handcal//NONSGML v1.0//EN
CALSCALE:GREGORIAN
BEGIN:VEVENT
DTEND:20230901T230000Z
UID:69e63b4ccdd3f
DTSTAMP:20260420T154220Z
LOCATION:8680 Mürzzuschlag
DESCRIPTION:
URL;VALUE=URI:
SUMMARY:ebock Mürzathlon
DTSTART:20230901T230000Z
END:VEVENT
END:VCALENDAR
An internal server error occurred.