BEGIN:VCALENDAR
VERSION:2.0
PRODID:-//hacksw/handcal//NONSGML v1.0//EN
CALSCALE:GREGORIAN
BEGIN:VEVENT
DTEND:20230519T230000Z
UID:69e5a53e51cc7
DTSTAMP:20260420T050206Z
LOCATION:8750 Judenburg
DESCRIPTION:
URL;VALUE=URI:
SUMMARY:Murtal24  
DTSTART:20230519T230000Z
END:VEVENT
END:VCALENDAR
An internal server error occurred.