BEGIN:VCALENDAR
VERSION:2.0
PRODID:-//hacksw/handcal//NONSGML v1.0//EN
CALSCALE:GREGORIAN
BEGIN:VEVENT
DTEND:20221105T230000Z
UID:69e7235d16cc9
DTSTAMP:20260421T081229Z
LOCATION: 18106 Rostock 
DESCRIPTION:
URL;VALUE=URI:
SUMMARY:Rostocker Herbstlauf
DTSTART:20221105T230000Z
END:VEVENT
END:VCALENDAR
An internal server error occurred.