BEGIN:VCALENDAR
VERSION:2.0
PRODID:-//hacksw/handcal//NONSGML v1.0//EN
CALSCALE:GREGORIAN
BEGIN:VEVENT
DTEND:20230630T230000Z
UID:69e6c9ea62aa5
DTSTAMP:20260421T015050Z
LOCATION:6847 Vassenden
DESCRIPTION:
URL;VALUE=URI:
SUMMARY:Jølster Maraton 
DTSTART:20230630T230000Z
END:VEVENT
END:VCALENDAR
An internal server error occurred.