BEGIN:VCALENDAR
VERSION:2.0
PRODID:-//hacksw/handcal//NONSGML v1.0//EN
CALSCALE:GREGORIAN
BEGIN:VEVENT
DTEND:20220621T230000Z
UID:69e5631f2d221
DTSTAMP:20260420T001959Z
LOCATION:2108 Couvet/NE
DESCRIPTION:
URL;VALUE=URI:
SUMMARY:Swiss Canyon Trail
DTSTART:20220621T230000Z
END:VEVENT
END:VCALENDAR
An internal server error occurred.