BEGIN:VCALENDAR
VERSION:2.0
PRODID:-//hacksw/handcal//NONSGML v1.0//EN
CALSCALE:GREGORIAN
BEGIN:VEVENT
DTEND:20220621T230000Z
UID:69ed12ad974f1
DTSTAMP:20260425T201453Z
LOCATION:6006 Luzern
DESCRIPTION:
URL;VALUE=URI:
SUMMARY:SwissCityMarathon Lucerne 
DTSTART:20220621T230000Z
END:VEVENT
END:VCALENDAR
An internal server error occurred.