BEGIN:VCALENDAR
VERSION:2.0
PRODID:-//hacksw/handcal//NONSGML v1.0//EN
CALSCALE:GREGORIAN
BEGIN:VEVENT
DTEND:20221015T230000Z
UID:69e70c114ed1c
DTSTAMP:20260421T063305Z
LOCATION:71711 Steinheim/Murr
DESCRIPTION:
URL;VALUE=URI:
SUMMARY:Bottwartal-Marathon  
DTSTART:20221015T230000Z
END:VEVENT
END:VCALENDAR
An internal server error occurred.