BEGIN:VCALENDAR
VERSION:2.0
PRODID:-//hacksw/handcal//NONSGML v1.0//EN
CALSCALE:GREGORIAN
BEGIN:VEVENT
DTEND:20210918T230000Z
UID:69e6bb64b425e
DTSTAMP:20260421T004852Z
LOCATION:21762 Otterndorf
DESCRIPTION:
URL;VALUE=URI:
SUMMARY: Küstenmarathon 
DTSTART:20210918T230000Z
END:VEVENT
END:VCALENDAR
An internal server error occurred.