BEGIN:VCALENDAR
VERSION:2.0
PRODID:-//hacksw/handcal//NONSGML v1.0//EN
CALSCALE:GREGORIAN
BEGIN:VEVENT
DTEND:20220909T230000Z
UID:69e770183dfc5
DTSTAMP:20260421T133952Z
LOCATION:01737 Kurort Hartha
DESCRIPTION:
URL;VALUE=URI:
SUMMARY:Tharandter-Wald-Lauf 
DTSTART:20220909T230000Z
END:VEVENT
END:VCALENDAR
An internal server error occurred.