BEGIN:VCALENDAR
VERSION:2.0
PRODID:-//hacksw/handcal//NONSGML v1.0//EN
CALSCALE:GREGORIAN
BEGIN:VEVENT
DTEND:20220827T230000Z
UID:69e720f9d1e0d
DTSTAMP:20260421T080217Z
LOCATION:35099 Burgwald
DESCRIPTION:
URL;VALUE=URI:
SUMMARY:Burgwald Märchen Marathon
DTSTART:20220827T230000Z
END:VEVENT
END:VCALENDAR
An internal server error occurred.