BEGIN:VCALENDAR
VERSION:2.0
PRODID:-//hacksw/handcal//NONSGML v1.0//EN
CALSCALE:GREGORIAN
BEGIN:VEVENT
DTEND:20220813T230000Z
UID:69e77017ef9fe
DTSTAMP:20260421T133951Z
LOCATION:87527 Sonthofen
DESCRIPTION:
URL;VALUE=URI:
SUMMARY:Allgäu Panorama Marathon 
DTSTART:20220813T230000Z
END:VEVENT
END:VCALENDAR
An internal server error occurred.