BEGIN:VCALENDAR
VERSION:2.0
PRODID:-//hacksw/handcal//NONSGML v1.0//EN
CALSCALE:GREGORIAN
BEGIN:VEVENT
DTEND:20220805T230000Z
UID:69e5e43eb9a7d
DTSTAMP:20260420T093054Z
LOCATION:7000 Chur
DESCRIPTION:
URL;VALUE=URI:
SUMMARY:Swiss Irontrail
DTSTART:20220805T230000Z
END:VEVENT
END:VCALENDAR
An internal server error occurred.